BEGIN:VCALENDAR
VERSION:2.0
PRODID:-//Club degli Orafi - ECPv6.15.14//NONSGML v1.0//EN
CALSCALE:GREGORIAN
METHOD:PUBLISH
X-ORIGINAL-URL:http://www.clubdegliorafi.org
X-WR-CALDESC:Eventi per Club degli Orafi
REFRESH-INTERVAL;VALUE=DURATION:PT1H
X-Robots-Tag:noindex
X-PUBLISHED-TTL:PT1H
BEGIN:VTIMEZONE
TZID:Europe/Rome
BEGIN:DAYLIGHT
TZOFFSETFROM:+0100
TZOFFSETTO:+0200
TZNAME:CEST
DTSTART:20210328T010000
END:DAYLIGHT
BEGIN:STANDARD
TZOFFSETFROM:+0200
TZOFFSETTO:+0100
TZNAME:CET
DTSTART:20211031T010000
END:STANDARD
BEGIN:DAYLIGHT
TZOFFSETFROM:+0100
TZOFFSETTO:+0200
TZNAME:CEST
DTSTART:20220327T010000
END:DAYLIGHT
BEGIN:STANDARD
TZOFFSETFROM:+0200
TZOFFSETTO:+0100
TZNAME:CET
DTSTART:20221030T010000
END:STANDARD
BEGIN:DAYLIGHT
TZOFFSETFROM:+0100
TZOFFSETTO:+0200
TZNAME:CEST
DTSTART:20230326T010000
END:DAYLIGHT
BEGIN:STANDARD
TZOFFSETFROM:+0200
TZOFFSETTO:+0100
TZNAME:CET
DTSTART:20231029T010000
END:STANDARD
END:VTIMEZONE
BEGIN:VEVENT
DTSTART;TZID=Europe/Rome:20220909T143000
DTEND;TZID=Europe/Rome:20220909T153000
DTSTAMP:20260422T071811
CREATED:20220906T093554Z
LAST-MODIFIED:20220906T093554Z
UID:1656-1662733800-1662737400@www.clubdegliorafi.org
SUMMARY:Talk "ll settore orafo italiano. Uno scenario complesso e incerto"
DESCRIPTION:Il settore orafo italiano. Uno scenario complesso e incerto \nNel corso dell’evento\, oltre all’analisi statistica verrà presentato il sentiment del comparto\, rilevato attraverso una indagine presso gli associati al Club degli Orafi\, per cogliere le opportunità e le criticità di un contesto reso più complesso dalle tensioni geopolitiche che influenzano il potenziale di domanda e la gestione dei prezzi delle materie prime.
URL:http://www.clubdegliorafi.org/evento/talk-ll-settore-orafo-italiano-uno-scenario-complesso-e-incerto/
LOCATION:VicenzaOro\, Hall 7 - Main Stage\, Vicenza
CATEGORIES:Studi e Ricerche
END:VEVENT
BEGIN:VEVENT
DTSTART;TZID=Europe/Rome:20220319T130000
DTEND;TZID=Europe/Rome:20220319T140000
DTSTAMP:20260422T071811
CREATED:20220228T142817Z
LAST-MODIFIED:20220228T150306Z
UID:716-1647694800-1647698400@www.clubdegliorafi.org
SUMMARY:Talk "Lo scenario per il settore orafo. Un quadro positivo con nuove incertezze da affrontare"
DESCRIPTION:“Lo scenario per il settore orafo. Un quadro positivo con nuove incertezze da affrontare” \nUn’analisi qualitativa e quantitativa dell’andamento del comparto orafo italiano 2021 nel Report Club degli Orafi – Intesa Sanpaolo. \nIl Club degli Orafi Italia e la Direzione Studi e Ricerche di Intesa Sanpaolo collaborano dal 2005 per la realizzazione di una scheda statistica dedicata all’oreficeria italiana\, condividendo le rispettive conoscenze sul settore\, in un caso basate sull’esperienza di chi da anni sta sul mercato\, nell’altro sul patrimonio informativo di un centro di ricerca specializzato sull’analisi quantitativa di una pluralità di settori. \nPer la prima volta alla lettura quantitativa viene abbinata una fotografia del sentiment dei principali player del comparto\, grazie a una nuova indagine qualitativa.
URL:http://www.clubdegliorafi.org/evento/talk-lo-scenario-per-il-settore-orafo-un-quadro-positivo-con-nuove-incertezze-da-affrontare/
LOCATION:VicenzaOro\, Hall 7 - Main Stage\, Vicenza
CATEGORIES:Studi e Ricerche
END:VEVENT
END:VCALENDAR